BEGIN:VCALENDAR
VERSION:2.0
PRODID:-//emersonaveband.com - ECPv6.15.20//NONSGML v1.0//EN
CALSCALE:GREGORIAN
METHOD:PUBLISH
X-ORIGINAL-URL:https://emersonaveband.com
X-WR-CALDESC:Events for emersonaveband.com
REFRESH-INTERVAL;VALUE=DURATION:PT1H
X-Robots-Tag:noindex
X-PUBLISHED-TTL:PT1H
BEGIN:VTIMEZONE
TZID:America/Chicago
BEGIN:DAYLIGHT
TZOFFSETFROM:-0600
TZOFFSETTO:-0500
TZNAME:CDT
DTSTART:20210314T080000
END:DAYLIGHT
BEGIN:STANDARD
TZOFFSETFROM:-0500
TZOFFSETTO:-0600
TZNAME:CST
DTSTART:20211107T070000
END:STANDARD
BEGIN:DAYLIGHT
TZOFFSETFROM:-0600
TZOFFSETTO:-0500
TZNAME:CDT
DTSTART:20220313T080000
END:DAYLIGHT
BEGIN:STANDARD
TZOFFSETFROM:-0500
TZOFFSETTO:-0600
TZNAME:CST
DTSTART:20221106T070000
END:STANDARD
BEGIN:DAYLIGHT
TZOFFSETFROM:-0600
TZOFFSETTO:-0500
TZNAME:CDT
DTSTART:20230312T080000
END:DAYLIGHT
BEGIN:STANDARD
TZOFFSETFROM:-0500
TZOFFSETTO:-0600
TZNAME:CST
DTSTART:20231105T070000
END:STANDARD
BEGIN:DAYLIGHT
TZOFFSETFROM:-0600
TZOFFSETTO:-0500
TZNAME:CDT
DTSTART:20240310T080000
END:DAYLIGHT
BEGIN:STANDARD
TZOFFSETFROM:-0500
TZOFFSETTO:-0600
TZNAME:CST
DTSTART:20241103T070000
END:STANDARD
END:VTIMEZONE
BEGIN:VEVENT
DTSTART;TZID=America/Chicago:20231012T193000
DTEND;TZID=America/Chicago:20231012T220000
DTSTAMP:20260425T131316
CREATED:20230525T141352Z
LAST-MODIFIED:20230525T142633Z
UID:3004-1697139000-1697148000@emersonaveband.com
SUMMARY:Brass\, Sass and Sizzle Show!!
DESCRIPTION:
URL:https://emersonaveband.com/event/20230812-brass-sass-sizzle/
LOCATION:Le Musique Room at St Michael Cinema\, 4300 O'Day Ave NE\, Saint Michael\, Minnesota\, 55376\, United States
END:VEVENT
BEGIN:VEVENT
DTSTART;TZID=America/Chicago:20230917T123000
DTEND;TZID=America/Chicago:20230917T150000
DTSTAMP:20260425T131316
CREATED:20230525T140805Z
LAST-MODIFIED:20230525T142319Z
UID:3001-1694953800-1694962800@emersonaveband.com
SUMMARY:Fall Festival - St. Mary of the Lake
DESCRIPTION:
URL:https://emersonaveband.com/event/20230917-st-mary/
LOCATION:St Mary of the Lake\, 4690 Bald Eagle Ave\, White Bear Lake\, Minnesota
END:VEVENT
BEGIN:VEVENT
DTSTART;TZID=America/Chicago:20230916T183000
DTEND;TZID=America/Chicago:20230916T210000
DTSTAMP:20260425T131316
CREATED:20230525T140708Z
LAST-MODIFIED:20230525T142257Z
UID:2999-1694889000-1694898000@emersonaveband.com
SUMMARY:Fall Festival - Holy Name of Jesus - Wayzata
DESCRIPTION:
URL:https://emersonaveband.com/event/holy-name-fall-2023/
LOCATION:Holy Name of Jesus Wayzata\, 155 County Rd 24\, Wayzata\, Minnesota
END:VEVENT
BEGIN:VEVENT
DTSTART;TZID=America/Chicago:20230819T184500
DTEND;TZID=America/Chicago:20230819T214500
DTSTAMP:20260425T131316
CREATED:20230313T220744Z
LAST-MODIFIED:20230525T142150Z
UID:2850-1692470700-1692481500@emersonaveband.com
SUMMARY:Emerson Avenue at St. Gerard Corn Fest ! Free Live Music !
DESCRIPTION:
URL:https://emersonaveband.com/event/gr-corn-2023/
LOCATION:The Church of St Gerard\, 9600 Regent Ave N\, Brooklyn Park\, Minnesota\, 55103\, United States
END:VEVENT
BEGIN:VEVENT
DTSTART;TZID=America/Chicago:20230728T190000
DTEND;TZID=America/Chicago:20230728T220000
DTSTAMP:20260425T131316
CREATED:20230525T140039Z
LAST-MODIFIED:20230525T142238Z
UID:2995-1690570800-1690581600@emersonaveband.com
SUMMARY:Emerson Avenue at a Private Party
DESCRIPTION:Content is protected.
URL:https://emersonaveband.com/event/private-jul-28-2023/
END:VEVENT
BEGIN:VEVENT
DTSTART;TZID=America/Chicago:20230711T190000
DTEND;TZID=America/Chicago:20230711T203000
DTSTAMP:20260425T131316
CREATED:20230321T192739Z
LAST-MODIFIED:20230525T142126Z
UID:2868-1689102000-1689107400@emersonaveband.com
SUMMARY:North Branch MN "Summer Concerts in the Park"
DESCRIPTION:Music concert at Central Park\, North Branch\, MN. BRING YOUR LAWN CHAIRS! Food Trucks and Fun begin at 6pm with the concert starting at 7pm. A book will be read each evening at 6:45pm and handed out to the first 50 kids.Other activities include\, chalk art\, bounce house\, water features and yard games!Rain or Shine. (In case of rain the concert will be at 38175 Grand Avenue\, North Branch High School) \n\n\n\nSee more
URL:https://emersonaveband.com/event/north-branch-mn-summer-concerts-in-the-park-2023/
LOCATION:Central Park\, 6250 main st.\, North Branch\, Minnesota\, 55056\, United States
END:VEVENT
BEGIN:VEVENT
DTSTART;TZID=America/Chicago:20230610T180000
DTEND;TZID=America/Chicago:20230610T210000
DTSTAMP:20260425T131316
CREATED:20230227T185514Z
LAST-MODIFIED:20230525T142113Z
UID:2820-1686420000-1686430800@emersonaveband.com
SUMMARY:LuceLine Orchard "Concerts in the Country" Free Concert !!
DESCRIPTION:
URL:https://emersonaveband.com/event/liceline-orchard-2023/
LOCATION:LiceLine Orchard\, 2755 Rose Avenue\, Watertown\, Minnesota\, 55388\, United States
END:VEVENT
BEGIN:VEVENT
DTSTART;TZID=America/Chicago:20230609T193000
DTEND;TZID=America/Chicago:20230609T210000
DTSTAMP:20260425T131316
CREATED:20230227T185609Z
LAST-MODIFIED:20230525T142051Z
UID:2818-1686339000-1686344400@emersonaveband.com
SUMMARY:Emerson Avenue at the Lake Harriet Bandshell
DESCRIPTION:
URL:https://emersonaveband.com/event/emerson-avenue-lh-2023/
LOCATION:Lake Harriet Bandshell Park\, 4135 W Lake Harriet Pkwy\, Minneapolis\, MN\, 55409
END:VEVENT
BEGIN:VEVENT
DTSTART;TZID=America/Chicago:20230603T190000
DTEND;TZID=America/Chicago:20230603T220000
DTSTAMP:20260425T131316
CREATED:20230525T140450Z
LAST-MODIFIED:20230525T142046Z
UID:2993-1685818800-1685829600@emersonaveband.com
SUMMARY:North Oaks Summer Festival
DESCRIPTION:
URL:https://emersonaveband.com/event/north-oaks-summer-2023/
LOCATION:North Oaks West Park\, 2948-3142 Rodeo Dr NE\, Blaine\, Minnesota\, 55449\, United States
END:VEVENT
BEGIN:VEVENT
DTSTART;TZID=America/Chicago:20221210T190000
DTEND;TZID=America/Chicago:20221210T233000
DTSTAMP:20260425T131316
CREATED:20220829T172642Z
LAST-MODIFIED:20220829T172840Z
UID:2280-1670698800-1670715000@emersonaveband.com
SUMMARY:Emerson Avenue at a Private Party
DESCRIPTION:Content is protected.
URL:https://emersonaveband.com/event/private-party-copy-copy/
LOCATION:Woodhil Country Club\, Wayzata Blvd E\, Wayzata\, Minnesota\, 55391
END:VEVENT
BEGIN:VEVENT
DTSTART;TZID=America/Chicago:20221203T190000
DTEND;TZID=America/Chicago:20221203T233000
DTSTAMP:20260425T131316
CREATED:20220829T172330Z
LAST-MODIFIED:20220829T172529Z
UID:2275-1670094000-1670110200@emersonaveband.com
SUMMARY:Emerson Avenue at a Private Party
DESCRIPTION:Content is protected.
URL:https://emersonaveband.com/event/private-party-copy/
LOCATION:Minikahda Country Club\, MN-100\, Minneapols\, Minnesota\, 55416
END:VEVENT
BEGIN:VEVENT
DTSTART;TZID=America/Chicago:20221119T193000
DTEND;TZID=America/Chicago:20221119T233000
DTSTAMP:20260425T131316
CREATED:20220829T172148Z
LAST-MODIFIED:20220829T172615Z
UID:2269-1668886200-1668900600@emersonaveband.com
SUMMARY:Emerson Avenue at a Private Party
DESCRIPTION:Content is protected.
URL:https://emersonaveband.com/event/private-party/
LOCATION:Wayzata Country Club\, Wayzata Blvd E\, Wayzata\, Minnesota\, 55391
END:VEVENT
BEGIN:VEVENT
DTSTART;TZID=America/Chicago:20220918T123000
DTEND;TZID=America/Chicago:20220918T150000
DTSTAMP:20260425T131316
CREATED:20220829T171440Z
LAST-MODIFIED:20220829T182736Z
UID:2264-1663504200-1663513200@emersonaveband.com
SUMMARY:Fall Festival - St. Mary of the Lake
DESCRIPTION:
URL:https://emersonaveband.com/event/20220918/
LOCATION:St Mary of the Lake\, 4690 Bald Eagle Ave\, White Bear Lake\, Minnesota
END:VEVENT
BEGIN:VEVENT
DTSTART;TZID=America/Chicago:20220917T190000
DTEND;TZID=America/Chicago:20220917T210000
DTSTAMP:20260425T131316
CREATED:20220829T171103Z
LAST-MODIFIED:20220829T182745Z
UID:2259-1663441200-1663448400@emersonaveband.com
SUMMARY:Fall Festival - Holy Name of Jesus - Wayzata
DESCRIPTION:
URL:https://emersonaveband.com/event/20220917/
LOCATION:Holy Name of Jesus Wayzata\, 155 County Rd 24\, Wayzata\, Minnesota
END:VEVENT
BEGIN:VEVENT
DTSTART;TZID=America/Chicago:20220604T120000
DTEND;TZID=America/Chicago:20220604T120000
DTSTAMP:20260425T131316
CREATED:20220604T024524Z
LAST-MODIFIED:20220604T025118Z
UID:1593-1654344000-1654344000@emersonaveband.com
SUMMARY:Emerson Avenue at a Private Party
DESCRIPTION:Content is protected.
URL:https://emersonaveband.com/event/emerson-avenue-at-the-lake-harriet-bandshell-copy/
END:VEVENT
BEGIN:VEVENT
DTSTART;TZID=America/Chicago:20220603T193000
DTEND;TZID=America/Chicago:20220603T210000
DTSTAMP:20260425T131316
CREATED:20220604T003002Z
LAST-MODIFIED:20220604T025025Z
UID:1432-1654284600-1654290000@emersonaveband.com
SUMMARY:Emerson Avenue at the Lake Harriet Bandshell
DESCRIPTION:
URL:https://emersonaveband.com/event/emerson-avenue-private-party/
LOCATION:Lake Harriet Bandshell Park\, 4135 W Lake Harriet Pkwy\, Minneapolis\, MN\, 55409
END:VEVENT
END:VCALENDAR